BEGIN:VCALENDAR
VERSION:2.0
PRODID:-//Turnverein 03 Selzen e.V. - ECPv6.0.7.1//NONSGML v1.0//EN
CALSCALE:GREGORIAN
METHOD:PUBLISH
X-ORIGINAL-URL:https://www.tv03-selzen.de
X-WR-CALDESC:Veranstaltungen für Turnverein 03 Selzen e.V.
REFRESH-INTERVAL;VALUE=DURATION:PT1H
X-Robots-Tag:noindex
X-PUBLISHED-TTL:PT1H
BEGIN:VTIMEZONE
TZID:Europe/Berlin
BEGIN:DAYLIGHT
TZOFFSETFROM:+0100
TZOFFSETTO:+0200
TZNAME:CEST
DTSTART:20190331T010000
END:DAYLIGHT
BEGIN:STANDARD
TZOFFSETFROM:+0200
TZOFFSETTO:+0100
TZNAME:CET
DTSTART:20191027T010000
END:STANDARD
BEGIN:DAYLIGHT
TZOFFSETFROM:+0100
TZOFFSETTO:+0200
TZNAME:CEST
DTSTART:20200329T010000
END:DAYLIGHT
BEGIN:STANDARD
TZOFFSETFROM:+0200
TZOFFSETTO:+0100
TZNAME:CET
DTSTART:20201025T010000
END:STANDARD
BEGIN:DAYLIGHT
TZOFFSETFROM:+0100
TZOFFSETTO:+0200
TZNAME:CEST
DTSTART:20210328T010000
END:DAYLIGHT
BEGIN:STANDARD
TZOFFSETFROM:+0200
TZOFFSETTO:+0100
TZNAME:CET
DTSTART:20211031T010000
END:STANDARD
BEGIN:DAYLIGHT
TZOFFSETFROM:+0100
TZOFFSETTO:+0200
TZNAME:CEST
DTSTART:20220327T010000
END:DAYLIGHT
BEGIN:STANDARD
TZOFFSETFROM:+0200
TZOFFSETTO:+0100
TZNAME:CET
DTSTART:20221030T010000
END:STANDARD
BEGIN:DAYLIGHT
TZOFFSETFROM:+0100
TZOFFSETTO:+0200
TZNAME:CEST
DTSTART:20230326T010000
END:DAYLIGHT
BEGIN:STANDARD
TZOFFSETFROM:+0200
TZOFFSETTO:+0100
TZNAME:CET
DTSTART:20231029T010000
END:STANDARD
TZID:Europe/Paris
BEGIN:DAYLIGHT
TZOFFSETFROM:+0100
TZOFFSETTO:+0200
TZNAME:CEST
DTSTART:20190331T010000
END:DAYLIGHT
BEGIN:STANDARD
TZOFFSETFROM:+0200
TZOFFSETTO:+0100
TZNAME:CET
DTSTART:20191027T010000
END:STANDARD
END:VTIMEZONE
BEGIN:VEVENT
DTSTART;VALUE=DATE:20231202
DTEND;VALUE=DATE:20231203
DTSTAMP:20260419T172540
CREATED:20230123T193300Z
LAST-MODIFIED:20230123T193300Z
UID:9914-1701475200-1701561599@www.tv03-selzen.de
SUMMARY:Weihnachtsfeier des TV 03 Selzen
DESCRIPTION:
URL:https://www.tv03-selzen.de/event/weihnachtsfeier-des-tv-03-selzen/
LOCATION:Turnhalle\, Gaustr. 57\, Selzen\, 55278\, Deutschland
END:VEVENT
BEGIN:VEVENT
DTSTART;VALUE=DATE:20231104
DTEND;VALUE=DATE:20231105
DTSTAMP:20260419T172540
CREATED:20230123T193200Z
LAST-MODIFIED:20230123T193200Z
UID:9912-1699056000-1699142399@www.tv03-selzen.de
SUMMARY:Tag des Kinderturnens
DESCRIPTION:
URL:https://www.tv03-selzen.de/event/tag-des-kinderturnens-5/
LOCATION:Turnhalle\, Gaustr. 57\, Selzen\, 55278\, Deutschland
END:VEVENT
BEGIN:VEVENT
DTSTART;VALUE=DATE:20230923
DTEND;VALUE=DATE:20230924
DTSTAMP:20260419T172540
CREATED:20230123T193038Z
LAST-MODIFIED:20230123T193055Z
UID:9910-1695427200-1695513599@www.tv03-selzen.de
SUMMARY:Herbst-Kindersachenbasar
DESCRIPTION:
URL:https://www.tv03-selzen.de/event/herbst-kindersachenbasar/
LOCATION:Turnhalle\, Gaustr. 57\, Selzen\, 55278\, Deutschland
END:VEVENT
BEGIN:VEVENT
DTSTART;TZID=Europe/Berlin:20230415T190000
DTEND;TZID=Europe/Berlin:20230415T210000
DTSTAMP:20260419T172540
CREATED:20230122T113304Z
LAST-MODIFIED:20230329T101059Z
UID:9857-1681585200-1681592400@www.tv03-selzen.de
SUMMARY:Mitgliederversammlung
DESCRIPTION:Einladung Mitgliederversammlung 2023
URL:https://www.tv03-selzen.de/event/mitgliederversammlung-5/
END:VEVENT
BEGIN:VEVENT
DTSTART;TZID=Europe/Berlin:20230325T100000
DTEND;TZID=Europe/Berlin:20230325T100000
DTSTAMP:20260419T172540
CREATED:20230122T113115Z
LAST-MODIFIED:20230122T113202Z
UID:9855-1679738400-1679738400@www.tv03-selzen.de
SUMMARY:Kindersachenbasar
DESCRIPTION:
URL:https://www.tv03-selzen.de/event/kindersachenbasar-9/
END:VEVENT
BEGIN:VEVENT
DTSTART;TZID=Europe/Berlin:20230217T151100
DTEND;TZID=Europe/Berlin:20230217T173000
DTSTAMP:20260419T172540
CREATED:20230122T111348Z
LAST-MODIFIED:20230122T112826Z
UID:9847-1676646660-1676655000@www.tv03-selzen.de
SUMMARY:Kinderfastnacht
DESCRIPTION:
URL:https://www.tv03-selzen.de/event/kinderfastnacht/
LOCATION:Turnhalle\, Gaustr. 57\, Selzen\, 55278\, Deutschland
END:VEVENT
BEGIN:VEVENT
DTSTART;TZID=Europe/Berlin:20221203T000000
DTEND;TZID=Europe/Berlin:20221203T000000
DTSTAMP:20260419T172540
CREATED:20211231T214437Z
LAST-MODIFIED:20211231T214459Z
UID:8103-1670025600-1670025600@www.tv03-selzen.de
SUMMARY:Weihnachtsfeier
DESCRIPTION:
URL:https://www.tv03-selzen.de/event/weihnachtsfeier-3/
LOCATION:Turnhalle\, Gaustr. 57\, Selzen\, 55278\, Deutschland
END:VEVENT
BEGIN:VEVENT
DTSTART;TZID=Europe/Berlin:20221113T000000
DTEND;TZID=Europe/Berlin:20221113T000000
DTSTAMP:20260419T172540
CREATED:20211231T213918Z
LAST-MODIFIED:20211231T214214Z
UID:8100-1668297600-1668297600@www.tv03-selzen.de
SUMMARY:Tag des Kinderturnens
DESCRIPTION:
URL:https://www.tv03-selzen.de/event/tag-des-kinderturnens-4/
LOCATION:Turnhalle\, Gaustr. 57\, Selzen\, 55278\, Deutschland
END:VEVENT
BEGIN:VEVENT
DTSTART;TZID=Europe/Berlin:20221008T100000
DTEND;TZID=Europe/Berlin:20221008T100000
DTSTAMP:20260419T172540
CREATED:20220907T075452Z
LAST-MODIFIED:20220918T192229Z
UID:9001-1665223200-1665223200@www.tv03-selzen.de
SUMMARY:Kindersachenbasar
DESCRIPTION:Mehr Infos\, auch für Verkäufer\, hier: Kindersachenbasar TV 03 Selzen \n \n 
URL:https://www.tv03-selzen.de/event/kindersachenbasar-8/
LOCATION:Turnhalle\, Gaustr. 57\, Selzen\, 55278\, Deutschland
END:VEVENT
BEGIN:VEVENT
DTSTART;TZID=Europe/Berlin:20220925T150000
DTEND;TZID=Europe/Berlin:20220925T150000
DTSTAMP:20260419T172540
CREATED:20211231T213832Z
LAST-MODIFIED:20211231T214312Z
UID:8098-1664118000-1664118000@www.tv03-selzen.de
SUMMARY:Tanzcafé
DESCRIPTION:
URL:https://www.tv03-selzen.de/event/tanzcafe-13/
LOCATION:Turnhalle\, Gaustr. 57\, Selzen\, 55278\, Deutschland
END:VEVENT
BEGIN:VEVENT
DTSTART;TZID=Europe/Berlin:20220424T150000
DTEND;TZID=Europe/Berlin:20220424T150000
DTSTAMP:20260419T172540
CREATED:20211231T213646Z
LAST-MODIFIED:20211231T214034Z
UID:8095-1650812400-1650812400@www.tv03-selzen.de
SUMMARY:Tanzcafé
DESCRIPTION:
URL:https://www.tv03-selzen.de/event/tanzcafe-12/
LOCATION:Turnhalle\, Gaustr. 57\, Selzen\, 55278\, Deutschland
END:VEVENT
BEGIN:VEVENT
DTSTART;TZID=Europe/Berlin:20220423T190000
DTEND;TZID=Europe/Berlin:20220423T210000
DTSTAMP:20260419T172540
CREATED:20211231T213419Z
LAST-MODIFIED:20220221T123310Z
UID:8089-1650740400-1650747600@www.tv03-selzen.de
SUMMARY:Mitgliederversammlung
DESCRIPTION:
URL:https://www.tv03-selzen.de/event/mitgliederversammlung-4/
LOCATION:Turnhalle\, Gaustr. 57\, Selzen\, 55278\, Deutschland
END:VEVENT
BEGIN:VEVENT
DTSTART;TZID=Europe/Berlin:20220327T150000
DTEND;TZID=Europe/Berlin:20220327T150000
DTSTAMP:20260419T172540
CREATED:20211231T213602Z
LAST-MODIFIED:20211231T214127Z
UID:8093-1648393200-1648393200@www.tv03-selzen.de
SUMMARY:Tanzcafé
DESCRIPTION:
URL:https://www.tv03-selzen.de/event/tanzcafe-11/
LOCATION:Turnhalle\, Gaustr. 57\, Selzen\, 55278\, Deutschland
END:VEVENT
BEGIN:VEVENT
DTSTART;TZID=Europe/Berlin:20220326T100000
DTEND;TZID=Europe/Berlin:20220326T100000
DTSTAMP:20260419T172540
CREATED:20211231T213514Z
LAST-MODIFIED:20211231T214059Z
UID:8091-1648288800-1648288800@www.tv03-selzen.de
SUMMARY:Kindersachenbasar
DESCRIPTION:
URL:https://www.tv03-selzen.de/event/kindersachenbasar-7/
LOCATION:Turnhalle\, Gaustr. 57\, Selzen\, 55278\, Deutschland
END:VEVENT
BEGIN:VEVENT
DTSTART;VALUE=DATE:20201205
DTEND;VALUE=DATE:20201206
DTSTAMP:20260419T172540
CREATED:20200220T202746Z
LAST-MODIFIED:20201128T094013Z
UID:6773-1607126400-1607212799@www.tv03-selzen.de
SUMMARY:ABGESAGT - Weihnachtsfeier
DESCRIPTION:Durchführung je nach Corona-Bedingungen noch offen …
URL:https://www.tv03-selzen.de/event/weihnachtsfeier-2/
END:VEVENT
BEGIN:VEVENT
DTSTART;VALUE=DATE:20201115
DTEND;VALUE=DATE:20201116
DTSTAMP:20260419T172540
CREATED:20200220T202634Z
LAST-MODIFIED:20201021T131941Z
UID:6771-1605398400-1605484799@www.tv03-selzen.de
SUMMARY:ABGESAGT - Tag des Kinderturnens
DESCRIPTION:
URL:https://www.tv03-selzen.de/event/tag-des-kinderturnens-3/
END:VEVENT
BEGIN:VEVENT
DTSTART;TZID=Europe/Berlin:20200426T150000
DTEND;TZID=Europe/Berlin:20200426T180000
DTSTAMP:20260419T172540
CREATED:20200220T202138Z
LAST-MODIFIED:20200220T202138Z
UID:6764-1587913200-1587924000@www.tv03-selzen.de
SUMMARY:Tanzcafé
DESCRIPTION:
URL:https://www.tv03-selzen.de/event/tanzcafe-10/
END:VEVENT
BEGIN:VEVENT
DTSTART;TZID=Europe/Berlin:20200329T150000
DTEND;TZID=Europe/Berlin:20200329T180000
DTSTAMP:20260419T172540
CREATED:20200220T201810Z
LAST-MODIFIED:20200220T201810Z
UID:6762-1585494000-1585504800@www.tv03-selzen.de
SUMMARY:Tanzcafé
DESCRIPTION:
URL:https://www.tv03-selzen.de/event/tanzcafe-9/
END:VEVENT
BEGIN:VEVENT
DTSTART;TZID=Europe/Berlin:20200328T100000
DTEND;TZID=Europe/Berlin:20200328T120000
DTSTAMP:20260419T172540
CREATED:20200220T201724Z
LAST-MODIFIED:20200220T201724Z
UID:6760-1585389600-1585396800@www.tv03-selzen.de
SUMMARY:Kindersachenbasar
DESCRIPTION:
URL:https://www.tv03-selzen.de/event/kindersachenbasar-6/
END:VEVENT
BEGIN:VEVENT
DTSTART;TZID=Europe/Berlin:20200314T190000
DTEND;TZID=Europe/Berlin:20200314T190000
DTSTAMP:20260419T172540
CREATED:20200220T201522Z
LAST-MODIFIED:20200228T154558Z
UID:6758-1584212400-1584212400@www.tv03-selzen.de
SUMMARY:Mitgliederversammlung
DESCRIPTION:Einladung zur Mitgliederversammlung am 14. März 2020
URL:https://www.tv03-selzen.de/event/mitgliederversammlung-3/
LOCATION:Turnhalle\, Gaustr. 57\, Selzen\, 55278\, Deutschland
END:VEVENT
BEGIN:VEVENT
DTSTART;TZID=Europe/Paris:20191214T150000
DTEND;TZID=Europe/Paris:20191214T180000
DTSTAMP:20260419T172540
CREATED:20190113T083239Z
LAST-MODIFIED:20190113T083239Z
UID:5256-1576335600-1576346400@www.tv03-selzen.de
SUMMARY:Weihnachtsfeier
DESCRIPTION:
URL:https://www.tv03-selzen.de/event/weihnachtsfeier/
END:VEVENT
BEGIN:VEVENT
DTSTART;VALUE=DATE:20191130
DTEND;VALUE=DATE:20191201
DTSTAMP:20260419T172540
CREATED:20190217T120338Z
LAST-MODIFIED:20190520T192446Z
UID:5468-1575072000-1575158399@www.tv03-selzen.de
SUMMARY:Line Dance Party
DESCRIPTION:
URL:https://www.tv03-selzen.de/event/line-dance-party/
END:VEVENT
BEGIN:VEVENT
DTSTART;VALUE=DATE:20191110
DTEND;VALUE=DATE:20191111
DTSTAMP:20260419T172540
CREATED:20190112T135722Z
LAST-MODIFIED:20190112T135722Z
UID:5241-1573344000-1573430399@www.tv03-selzen.de
SUMMARY:Tag des Kinderturnens
DESCRIPTION:
URL:https://www.tv03-selzen.de/event/tag-des-kinderturnens-2/
END:VEVENT
BEGIN:VEVENT
DTSTART;TZID=Europe/Paris:20191027T150000
DTEND;TZID=Europe/Paris:20191027T180000
DTSTAMP:20260419T172540
CREATED:20190113T082938Z
LAST-MODIFIED:20191008T184005Z
UID:5252-1572188400-1572199200@www.tv03-selzen.de
SUMMARY:Tanzcafé
DESCRIPTION:Tanzcafé am 27. Oktober 2019 in der Turnhalle
URL:https://www.tv03-selzen.de/event/tanzcafe-8/
END:VEVENT
BEGIN:VEVENT
DTSTART;TZID=Europe/Berlin:20191019T100000
DTEND;TZID=Europe/Berlin:20191019T120000
DTSTAMP:20260419T172540
CREATED:20191008T182533Z
LAST-MODIFIED:20191008T183043Z
UID:6402-1571479200-1571486400@www.tv03-selzen.de
SUMMARY:Kindersachenbasar
DESCRIPTION:Kindersachenbasar beim TV 03 Selzen am 19.10.2019 – Es wird Herbst!
URL:https://www.tv03-selzen.de/event/kindersachenbasar-5/
END:VEVENT
BEGIN:VEVENT
DTSTART;TZID=Europe/Paris:20190922T150000
DTEND;TZID=Europe/Paris:20190922T180000
DTSTAMP:20260419T172540
CREATED:20190113T082833Z
LAST-MODIFIED:20190113T083504Z
UID:5250-1569164400-1569175200@www.tv03-selzen.de
SUMMARY:Tanzcafé
DESCRIPTION:
URL:https://www.tv03-selzen.de/event/tanzcafe-7/
END:VEVENT
BEGIN:VEVENT
DTSTART;VALUE=DATE:20190817
DTEND;VALUE=DATE:20190818
DTSTAMP:20260419T172540
CREATED:20190112T135554Z
LAST-MODIFIED:20190112T135554Z
UID:5239-1566000000-1566086399@www.tv03-selzen.de
SUMMARY:Sommerfest der Vereine
DESCRIPTION:auf dem alten Sportplatz hinter unserer Halle natürlich mit Beteiligung des TV 03 Selzen
URL:https://www.tv03-selzen.de/event/sommerfest-der-vereine/
END:VEVENT
BEGIN:VEVENT
DTSTART;TZID=Europe/Paris:20190428T150000
DTEND;TZID=Europe/Paris:20190428T180000
DTSTAMP:20260419T172540
CREATED:20190113T082716Z
LAST-MODIFIED:20190113T083420Z
UID:5248-1556463600-1556474400@www.tv03-selzen.de
SUMMARY:Tanzcafé
DESCRIPTION:
URL:https://www.tv03-selzen.de/event/tanzcafe-6/
END:VEVENT
BEGIN:VEVENT
DTSTART;TZID=Europe/Paris:20190330T100000
DTEND;TZID=Europe/Paris:20190330T120000
DTSTAMP:20260419T172540
CREATED:20190112T135049Z
LAST-MODIFIED:20190112T135049Z
UID:5237-1553940000-1553947200@www.tv03-selzen.de
SUMMARY:Kindersachenbasar
DESCRIPTION:
URL:https://www.tv03-selzen.de/event/kindersachenbasar-4/
END:VEVENT
BEGIN:VEVENT
DTSTART;TZID=Europe/Paris:20190324T150000
DTEND;TZID=Europe/Paris:20190324T180000
DTSTAMP:20260419T172540
CREATED:20190113T082348Z
LAST-MODIFIED:20190113T082430Z
UID:5246-1553439600-1553450400@www.tv03-selzen.de
SUMMARY:Tanzcafé
DESCRIPTION:
URL:https://www.tv03-selzen.de/event/tanzcafe-5/
END:VEVENT
END:VCALENDAR